2.438400
0.000000
0.000000
-2.438400
242411.339306
4432652.099166
