2.438400000000
0.000000000000
0.000000000000
-2.438400000000
746875.314575720810
4363269.928256224800
