2.438400
0.000000
0.000000
-2.438400
573233.191980
4456633.868046
