2.438400
0.000000
0.000000
-2.438400
541275.843008
4470173.756404
