2.438400
0.000000
0.000000
-2.438400
509445.751450
4483851.883692
