2.438400
0
0
-2.438400
317851.540339
4458238.190626
