2.438400
0.000000
0.000000
-2.438400
394093.328764
4567827.643857
