2.438400
0.000000
0.000000
-2.438400
363615.763080
4623834.677467
