2.438400
0.000000
0.000000
-2.438400
374464.319280
4651481.269607
