2.438400
0.000000
0.000000
-2.438400
302011.415071
4653050.017914
