2.438400000000
0.000000000000
0.000000000000
-2.438400000000
737637.098912264337
4640993.279083080590
