2.438400
0.000000
0.000000
-2.438400
722283.764771
4070923.781408
