2.438400
0.000000
0.000000
-2.438400
643818.140109
4096813.593219
