2.438400
0.000000
0.000000
-2.438400
510357.274598
4095439.171935
