2.438400
0.000000
0.000000
-2.438400
409533.054448
4054311.127694
