2.43840000
0.00000000
0.00000000
-2.43840000
353907.53325952
4068946.49385212
