2.43840000
0.00000000
0.00000000
-2.43840000
298003.90547316
4070078.81652606
