2.438400
0.000000
0.000000
-2.438400
410649.261388
4151256.336053
