2.438400
0.000000
0.000000
-2.438400
444225.097896
4206559.748271
