2.438400
0.000000
0.000000
-2.438400
376558.048388
4110175.870546
