2.438400
0.000000
0.000000
-2.438400
377052.538176
4124021.586264
