2.438400
0.000000
0.000000
-2.438400
355877.354101
4193728.325957
