2.438400
0.000000
0.000000
-2.438400
598722.402658
4137754.383420
