2.438400
0.000000
0.000000
-2.438400
609022.409434
4193405.458160
