2.438400
0.000000
0.000000
-2.438400
663736.999496
4208256.703187
