2.438400
0.000000
0.000000
-2.438400
532361.952158
4109415.078677
