2.438400
0.000000
0.000000
-2.438400
565442.101706
4137402.412427
