2.438400
0.000000
0.000000
-2.438400
301647.337604
4236438.974165
