2.438400
0.000000
0.000000
-2.438400
280090.858588
4250903.579017
