2.438400
0.000000
0.000000
-2.438400
238854.154814
4321631.913197
