2.438400
0.000000
0.000000
-2.438400
709326.741687
4876089.579445
