2.438400
0.000000
0.000000
-2.438400
260133.083222
4932336.031720
