2.438400
0.000000
0.000000
-2.438400
291822.421255
4988594.472242
