2.438400
0.000000
0.000000
-2.438400
706179.185793
4973312.227611
