2.438400000000
0.000000000000
0.000000000000
-2.438400000000
450718.151149020700
5094788.716932431800
