2.438400
0.000000
0.000000
-2.438400
304367.817386
5097656.474807
