2.438400000000
0.000000000000
0.000000000000
-2.438400000000
634823.789610582050
5068562.385558689000
