2.438400
0
0
-2.438400
614808.108430
5081956.752232
