2.438400
0.000000
0.000000
-2.438400
430901.535362
5122767.684092
