2.438400
0.000000
0.000000
-2.438400
441390.239572
5205996.144769
