2.438400
0.000000
0.000000
-2.438400
422425.349688
5206190.828476
