2.438400000000
0.000000000000
0.000000000000
-2.438400000000
374224.986916606372
5151448.368530693460
