2.438400
0.000000
0.000000
-2.438400
690124.282980
5153557.722372
