2.438400
0.000000
0.000000
-2.438400
643381.611069
5110451.969652
