2.438400
0.000000
0.000000
-2.438400
309895.018829
5264361.352722
