2.438400
0.000000
0.000000
-2.438400
574197.220409
5234114.669424
