2.438400
0
0
-2.438400
621392.240248
5248994.414192
