2.438400
0.000000
0.000000
-2.438400
555493.434100
5220029.463197
