2.438400
0.000000
0.000000
-2.438400
489241.883191
5316886.130786
