2.438400
0.000000
0.000000
-2.438400
385941.108585
5290201.673220
